BEGIN:VCALENDAR
VERSION:2.0
PRODID:-//Our Lady Patroness of America Center - ECPv6.15.20//NONSGML v1.0//EN
CALSCALE:GREGORIAN
METHOD:PUBLISH
X-ORIGINAL-URL:https://patronessofamerica.org
X-WR-CALDESC:Events for Our Lady Patroness of America Center
REFRESH-INTERVAL;VALUE=DURATION:PT1H
X-Robots-Tag:noindex
X-PUBLISHED-TTL:PT1H
BEGIN:VTIMEZONE
TZID:America/New_York
BEGIN:DAYLIGHT
TZOFFSETFROM:-0500
TZOFFSETTO:-0400
TZNAME:EDT
DTSTART:20200308T070000
END:DAYLIGHT
BEGIN:STANDARD
TZOFFSETFROM:-0400
TZOFFSETTO:-0500
TZNAME:EST
DTSTART:20201101T060000
END:STANDARD
BEGIN:DAYLIGHT
TZOFFSETFROM:-0500
TZOFFSETTO:-0400
TZNAME:EDT
DTSTART:20210314T070000
END:DAYLIGHT
BEGIN:STANDARD
TZOFFSETFROM:-0400
TZOFFSETTO:-0500
TZNAME:EST
DTSTART:20211107T060000
END:STANDARD
BEGIN:DAYLIGHT
TZOFFSETFROM:-0500
TZOFFSETTO:-0400
TZNAME:EDT
DTSTART:20220313T070000
END:DAYLIGHT
BEGIN:STANDARD
TZOFFSETFROM:-0400
TZOFFSETTO:-0500
TZNAME:EST
DTSTART:20221106T060000
END:STANDARD
END:VTIMEZONE
BEGIN:VEVENT
DTSTART;TZID=America/New_York:20210925T110000
DTEND;TZID=America/New_York:20210925T120000
DTSTAMP:20260424T180849
CREATED:20210920T233909Z
LAST-MODIFIED:20240424T030854Z
UID:10000054-1632567600-1632571200@patronessofamerica.org
SUMMARY:Our Lady of America Devotion Anniversary Mass
DESCRIPTION:Mass will be offered by Fr. Drew Curry on Saturday September 25 in the Mother of Mercy Chapel\, the birthplace of this devotion to Our Lady\, the Immaculate Virgin\, Patroness of America. \n \nThis Mass will be offered for Our Lady’s intercession for the United States of America and in thanksgiving for our many blessings.
URL:https://patronessofamerica.org/event_single/our-lady-of-america-devotion-anniversary-mass/
LOCATION:Our Lady\, Patroness of America Center & Oratory of the Holy Family\, 2730 E Northport Rd\, Rome City\, IN\, 46784\, United States
END:VEVENT
END:VCALENDAR