BEGIN:VCALENDAR
VERSION:2.0
PRODID:-//Our Lady Patroness of America Center - ECPv6.15.20//NONSGML v1.0//EN
CALSCALE:GREGORIAN
METHOD:PUBLISH
X-ORIGINAL-URL:https://patronessofamerica.org
X-WR-CALDESC:Events for Our Lady Patroness of America Center
REFRESH-INTERVAL;VALUE=DURATION:PT1H
X-Robots-Tag:noindex
X-PUBLISHED-TTL:PT1H
BEGIN:VTIMEZONE
TZID:America/New_York
BEGIN:DAYLIGHT
TZOFFSETFROM:-0500
TZOFFSETTO:-0400
TZNAME:EDT
DTSTART:20210314T070000
END:DAYLIGHT
BEGIN:STANDARD
TZOFFSETFROM:-0400
TZOFFSETTO:-0500
TZNAME:EST
DTSTART:20211107T060000
END:STANDARD
BEGIN:DAYLIGHT
TZOFFSETFROM:-0500
TZOFFSETTO:-0400
TZNAME:EDT
DTSTART:20220313T070000
END:DAYLIGHT
BEGIN:STANDARD
TZOFFSETFROM:-0400
TZOFFSETTO:-0500
TZNAME:EST
DTSTART:20221106T060000
END:STANDARD
BEGIN:DAYLIGHT
TZOFFSETFROM:-0500
TZOFFSETTO:-0400
TZNAME:EDT
DTSTART:20230312T070000
END:DAYLIGHT
BEGIN:STANDARD
TZOFFSETFROM:-0400
TZOFFSETTO:-0500
TZNAME:EST
DTSTART:20231105T060000
END:STANDARD
END:VTIMEZONE
BEGIN:VEVENT
DTSTART;TZID=America/New_York:20220121T110000
DTEND;TZID=America/New_York:20220121T123000
DTSTAMP:20260424T124306
CREATED:20211224T025511Z
LAST-MODIFIED:20220121T154958Z
UID:10000080-1642762800-1642768200@patronessofamerica.org
SUMMARY:Novena of Masses For Life
DESCRIPTION:LIVE STREAM \nThere will be a Novena of Masses offered in the Mother of Mercy Chapel seeking Divine grace through the intercession of  Our Lady\, the Immaculate Virgin\, Patroness of America January 18-26 @11:00. \nSpecial intention for the conversion of abortion proponents\, particulary Suprem Court Justices and Political Leaders.   And for the healing of all injured\, regretful  and oppressed by abortion. \nIf you are visiting Washington\, DC for the March For Life\, consider making a stop in Rome City (Visit Rome City) \nBy thy Holy and Immaculate Conception O Mary\, deliver us from this evil!
URL:https://patronessofamerica.org/event_single/novena-of-masses-for-life-8/
LOCATION:Our Lady\, Patroness of America Center & Oratory of the Holy Family\, 2730 E Northport Rd\, Rome City\, IN\, 46784\, United States
ATTACH;FMTTYPE=image/webp:https://patronessofamerica.org/wp-content/uploads/2021/12/ProlifeNovena-Ad-e1642474238220.jpg
END:VEVENT
END:VCALENDAR