BEGIN:VCALENDAR
VERSION:2.0
PRODID:-//Our Lady Patroness of America Center - ECPv6.15.20//NONSGML v1.0//EN
CALSCALE:GREGORIAN
METHOD:PUBLISH
X-WR-CALNAME:Our Lady Patroness of America Center
X-ORIGINAL-URL:https://patronessofamerica.org
X-WR-CALDESC:Events for Our Lady Patroness of America Center
REFRESH-INTERVAL;VALUE=DURATION:PT1H
X-Robots-Tag:noindex
X-PUBLISHED-TTL:PT1H
BEGIN:VTIMEZONE
TZID:America/New_York
BEGIN:DAYLIGHT
TZOFFSETFROM:-0500
TZOFFSETTO:-0400
TZNAME:EDT
DTSTART:20220313T070000
END:DAYLIGHT
BEGIN:STANDARD
TZOFFSETFROM:-0400
TZOFFSETTO:-0500
TZNAME:EST
DTSTART:20221106T060000
END:STANDARD
BEGIN:DAYLIGHT
TZOFFSETFROM:-0500
TZOFFSETTO:-0400
TZNAME:EDT
DTSTART:20230312T070000
END:DAYLIGHT
BEGIN:STANDARD
TZOFFSETFROM:-0400
TZOFFSETTO:-0500
TZNAME:EST
DTSTART:20231105T060000
END:STANDARD
BEGIN:DAYLIGHT
TZOFFSETFROM:-0500
TZOFFSETTO:-0400
TZNAME:EDT
DTSTART:20240310T070000
END:DAYLIGHT
BEGIN:STANDARD
TZOFFSETFROM:-0400
TZOFFSETTO:-0500
TZNAME:EST
DTSTART:20241103T060000
END:STANDARD
END:VTIMEZONE
BEGIN:VEVENT
DTSTART;TZID=America/New_York:20231007T110000
DTEND;TZID=America/New_York:20231007T123000
DTSTAMP:20260421T070044
CREATED:20221123T173032Z
LAST-MODIFIED:20231016T144455Z
UID:10000099-1696676400-1696681800@patronessofamerica.org
SUMMARY:First Saturday Mass - Oratory of the Holy Family
DESCRIPTION:STREAM LIVE HERE \nThe Holy Sacrifice of the Mass will be offered on the First Saturday of December in the Mother of Mercy Chapel in reparation for offenses against the Immaculate Heart of Mary. \nDetails on the Five First Saturday Devotion \nThis Mass will be offered for Our Lady’s intercession for the United States of America and in thanksgiving for our many blessings.
URL:https://patronessofamerica.org/event_single/first-saturday-mass-mother-of-mercy-chapel-25/
LOCATION:Our Lady\, Patroness of America Center & Oratory of the Holy Family\, 2730 E Northport Rd\, Rome City\, IN\, 46784\, United States
ATTACH;FMTTYPE=image/webp:https://patronessofamerica.org/wp-content/uploads/2021/12/Solemnity_Of_Mary_Mother_of_God.jpg
END:VEVENT
END:VCALENDAR