BEGIN:VCALENDAR
VERSION:2.0
PRODID:-//Our Lady Patroness of America Center - ECPv6.15.20//NONSGML v1.0//EN
CALSCALE:GREGORIAN
METHOD:PUBLISH
X-ORIGINAL-URL:https://patronessofamerica.org
X-WR-CALDESC:Events for Our Lady Patroness of America Center
REFRESH-INTERVAL;VALUE=DURATION:PT1H
X-Robots-Tag:noindex
X-PUBLISHED-TTL:PT1H
BEGIN:VTIMEZONE
TZID:America/New_York
BEGIN:DAYLIGHT
TZOFFSETFROM:-0500
TZOFFSETTO:-0400
TZNAME:EDT
DTSTART:20220313T070000
END:DAYLIGHT
BEGIN:STANDARD
TZOFFSETFROM:-0400
TZOFFSETTO:-0500
TZNAME:EST
DTSTART:20221106T060000
END:STANDARD
BEGIN:DAYLIGHT
TZOFFSETFROM:-0500
TZOFFSETTO:-0400
TZNAME:EDT
DTSTART:20230312T070000
END:DAYLIGHT
BEGIN:STANDARD
TZOFFSETFROM:-0400
TZOFFSETTO:-0500
TZNAME:EST
DTSTART:20231105T060000
END:STANDARD
BEGIN:DAYLIGHT
TZOFFSETFROM:-0500
TZOFFSETTO:-0400
TZNAME:EDT
DTSTART:20240310T070000
END:DAYLIGHT
BEGIN:STANDARD
TZOFFSETFROM:-0400
TZOFFSETTO:-0500
TZNAME:EST
DTSTART:20241103T060000
END:STANDARD
END:VTIMEZONE
BEGIN:VEVENT
DTSTART;TZID=America/New_York:20231201T190000
DTEND;TZID=America/New_York:20231201T203000
DTSTAMP:20260421T044307
CREATED:20231027T195319Z
LAST-MODIFIED:20231108T184102Z
UID:10000110-1701457200-1701462600@patronessofamerica.org
SUMMARY:Festival of Lessons and Carols
DESCRIPTION:On Friday\, December 1st @ 7:00 pm\, the Oratory of the Holy Family will host the Festival of Lessons and Carols. To honor the First Friday devotions\, we will be praying the Sorrowful Mysteries of the Rosary at 6:15 pm. After the Festival of Lessons and Carols concludes there will be free hot cocoa and cookies for those who wish to stay and enjoy some fellowship. \nThe Festival of Lessons and Carols is a service of Scripture and song that dates to the late 19th century.  In this service\, we listen to nine Scripture lessons that recount the Fall\, the promise of a Messiah\, the Incarnation\, and the Great Commission to preach the Good News.  Each lesson is followed by a carol or other song that reflects on the lesson’s message and a brief prayer. (source: https://www.usccb.org/prayer-and-worship/liturgical-year-and-calendar/advent/festival-of-lessons-and-carols)
URL:https://patronessofamerica.org/event_single/festival-of-lessons-and-carols/
LOCATION:Our Lady\, Patroness of America Center & Oratory of the Holy Family\, 2730 E Northport Rd\, Rome City\, IN\, 46784\, United States
ATTACH;FMTTYPE=image/webp:https://patronessofamerica.org/wp-content/uploads/2023/11/Lessons-and-Carols-Dec.-1st-1.webp
END:VEVENT
END:VCALENDAR