BEGIN:VCALENDAR
VERSION:2.0
PRODID:-//Our Lady Patroness of America Center - ECPv6.15.20//NONSGML v1.0//EN
CALSCALE:GREGORIAN
METHOD:PUBLISH
X-WR-CALNAME:Our Lady Patroness of America Center
X-ORIGINAL-URL:https://patronessofamerica.org
X-WR-CALDESC:Events for Our Lady Patroness of America Center
REFRESH-INTERVAL;VALUE=DURATION:PT1H
X-Robots-Tag:noindex
X-PUBLISHED-TTL:PT1H
BEGIN:VTIMEZONE
TZID:America/New_York
BEGIN:DAYLIGHT
TZOFFSETFROM:-0500
TZOFFSETTO:-0400
TZNAME:EDT
DTSTART:20200308T070000
END:DAYLIGHT
BEGIN:STANDARD
TZOFFSETFROM:-0400
TZOFFSETTO:-0500
TZNAME:EST
DTSTART:20201101T060000
END:STANDARD
BEGIN:DAYLIGHT
TZOFFSETFROM:-0500
TZOFFSETTO:-0400
TZNAME:EDT
DTSTART:20210314T070000
END:DAYLIGHT
BEGIN:STANDARD
TZOFFSETFROM:-0400
TZOFFSETTO:-0500
TZNAME:EST
DTSTART:20211107T060000
END:STANDARD
BEGIN:DAYLIGHT
TZOFFSETFROM:-0500
TZOFFSETTO:-0400
TZNAME:EDT
DTSTART:20220313T070000
END:DAYLIGHT
BEGIN:STANDARD
TZOFFSETFROM:-0400
TZOFFSETTO:-0500
TZNAME:EST
DTSTART:20221106T060000
END:STANDARD
END:VTIMEZONE
BEGIN:VEVENT
DTSTART;TZID=America/New_York:20210605T110000
DTEND;TZID=America/New_York:20210605T120000
DTSTAMP:20260425T124147
CREATED:20210524T181944Z
LAST-MODIFIED:20210605T143947Z
UID:10000045-1622890800-1622894400@patronessofamerica.org
SUMMARY:First Saturday Mass - Fr. Kevin Barrett\, Celebrant
DESCRIPTION:Stream Live on Youtube  https://youtu.be/PkRhMP6YdOU \nFr. Kevin Barrett\,  Chaplain for the Apostolate of Family Consecration will offer Holy Mass on Saturday June 5\, 2021 at the Mother of Mercy Chapel. \nFr. Kevin has been a long time supporter of the private devotion to Our Lady\, the Immaculate Virgin\, Patroness of America (in short Our Lady of America).   He has worked for many years as the Chaplain for Catholic Familyland just outside of Steubenville\, Ohio.  There he encourages and teaches the spiritual and temporal benefits of family consecration to the Holy Family.  This work greatly aligns with the call of Our Lady of America to imitate the Holy Family as a path to purity. \nThe First Saturday Devotion was established from Our Lady of Fatima and is to offer reparation for offenses against the Immaculate Heart of Mary. \nConfessions will be heard starting at 9:30 AM and continuing until 10:45 AM \n 
URL:https://patronessofamerica.org/event_single/first-saturday-mass-fr-kevin-barrett/
LOCATION:Our Lady\, Patroness of America Center & Oratory of the Holy Family\, 2730 E Northport Rd\, Rome City\, IN\, 46784\, United States
ATTACH;FMTTYPE=image/webp:https://patronessofamerica.org/wp-content/uploads/2021/05/FrKevinBarrett.webp
END:VEVENT
BEGIN:VEVENT
DTSTART;TZID=America/New_York:20210605T093000
DTEND;TZID=America/New_York:20210605T104500
DTSTAMP:20260425T124147
CREATED:20210524T191555Z
LAST-MODIFIED:20210524T203148Z
UID:10000046-1622885400-1622889900@patronessofamerica.org
SUMMARY:First Saturday Confession - Fr. Kevin Barrett
DESCRIPTION:In keeping with the First Saturday Devotion to the Immaculate Heart\, confessions will be heard starting at 9:30 AM through 10:45 AM
URL:https://patronessofamerica.org/event_single/first-saturday-confession-fr-kevin-barrett/
LOCATION:Our Lady\, Patroness of America Center & Oratory of the Holy Family\, 2730 E Northport Rd\, Rome City\, IN\, 46784\, United States
ATTACH;FMTTYPE=image/webp:https://patronessofamerica.org/wp-content/uploads/2021/05/Confession.jpg
END:VEVENT
END:VCALENDAR