BEGIN:VCALENDAR
VERSION:2.0
PRODID:-//Our Lady Patroness of America Center - ECPv6.15.20//NONSGML v1.0//EN
CALSCALE:GREGORIAN
METHOD:PUBLISH
X-ORIGINAL-URL:https://patronessofamerica.org
X-WR-CALDESC:Events for Our Lady Patroness of America Center
REFRESH-INTERVAL;VALUE=DURATION:PT1H
X-Robots-Tag:noindex
X-PUBLISHED-TTL:PT1H
BEGIN:VTIMEZONE
TZID:America/New_York
BEGIN:DAYLIGHT
TZOFFSETFROM:-0500
TZOFFSETTO:-0400
TZNAME:EDT
DTSTART:20200308T070000
END:DAYLIGHT
BEGIN:STANDARD
TZOFFSETFROM:-0400
TZOFFSETTO:-0500
TZNAME:EST
DTSTART:20201101T060000
END:STANDARD
BEGIN:DAYLIGHT
TZOFFSETFROM:-0500
TZOFFSETTO:-0400
TZNAME:EDT
DTSTART:20210314T070000
END:DAYLIGHT
BEGIN:STANDARD
TZOFFSETFROM:-0400
TZOFFSETTO:-0500
TZNAME:EST
DTSTART:20211107T060000
END:STANDARD
BEGIN:DAYLIGHT
TZOFFSETFROM:-0500
TZOFFSETTO:-0400
TZNAME:EDT
DTSTART:20220313T070000
END:DAYLIGHT
BEGIN:STANDARD
TZOFFSETFROM:-0400
TZOFFSETTO:-0500
TZNAME:EST
DTSTART:20221106T060000
END:STANDARD
END:VTIMEZONE
BEGIN:VEVENT
DTSTART;TZID=America/New_York:20211204T110000
DTEND;TZID=America/New_York:20211204T123000
DTSTAMP:20260424T124432
CREATED:20210621T212339Z
LAST-MODIFIED:20240424T030900Z
UID:10000053-1638615600-1638621000@patronessofamerica.org
SUMMARY:First Saturday Mass - Mother of Mercy Chapel
DESCRIPTION:STREAM LIVE HERE \nThe Holy Sacrifice of the Mass will be offered on the First Saturday of December in the Mother of Mercy Chapel in reparation for offenses against the Immaculate Heart of Mary. \nDetails on the Five First Saturday Devotion \nMass will be offered by Fr. Drew Curry on Saturday September 25 in the Mother of Mercy Chapel\, the birthplace of this devotion to Our Lady\, the Immaculate Virgin\, Patroness of America. \n \nThis Mass will be offered for Our Lady’s intercession for the United States of America and in thanksgiving for our many blessings.
URL:https://patronessofamerica.org/event_single/first-saturday-mass-mother-of-mercy-chapel-5/
LOCATION:Our Lady\, Patroness of America Center & Oratory of the Holy Family\, 2730 E Northport Rd\, Rome City\, IN\, 46784\, United States
ATTACH;FMTTYPE=image/webp:https://patronessofamerica.org/wp-content/uploads/2021/06/Fr-Drew-Curry.webp
END:VEVENT
BEGIN:VEVENT
DTSTART;TZID=America/New_York:20211208T110000
DTEND;TZID=America/New_York:20211208T160000
DTSTAMP:20260424T124432
CREATED:20211028T213847Z
LAST-MODIFIED:20211208T140702Z
UID:10000056-1638961200-1638979200@patronessofamerica.org
SUMMARY:Feast of the Immaculate Conception
DESCRIPTION:STREAM LIVE! \nThe Holy Sacrifice of the Mass will be offered on the Feast of the Immaculate Conception by Fr. Osmas Ramos\, F.M. Pastor. \nFr. Osman is a priest of the Franciscans of Mary founded in Madrid Spain. \nRosary after Mass
URL:https://patronessofamerica.org/event_single/feast-of-the-immaculate-conception-2/
LOCATION:Our Lady\, Patroness of America Center & Oratory of the Holy Family\, 2730 E Northport Rd\, Rome City\, IN\, 46784\, United States
ATTACH;FMTTYPE=image/webp:https://patronessofamerica.org/wp-content/uploads/2021/04/Fr-Osman-e1636389919944.webp
END:VEVENT
END:VCALENDAR