BEGIN:VCALENDAR
VERSION:2.0
PRODID:-//Our Lady Patroness of America Center - ECPv6.15.20//NONSGML v1.0//EN
CALSCALE:GREGORIAN
METHOD:PUBLISH
X-ORIGINAL-URL:https://patronessofamerica.org
X-WR-CALDESC:Events for Our Lady Patroness of America Center
REFRESH-INTERVAL;VALUE=DURATION:PT1H
X-Robots-Tag:noindex
X-PUBLISHED-TTL:PT1H
BEGIN:VTIMEZONE
TZID:America/New_York
BEGIN:DAYLIGHT
TZOFFSETFROM:-0500
TZOFFSETTO:-0400
TZNAME:EDT
DTSTART:20210314T070000
END:DAYLIGHT
BEGIN:STANDARD
TZOFFSETFROM:-0400
TZOFFSETTO:-0500
TZNAME:EST
DTSTART:20211107T060000
END:STANDARD
BEGIN:DAYLIGHT
TZOFFSETFROM:-0500
TZOFFSETTO:-0400
TZNAME:EDT
DTSTART:20220313T070000
END:DAYLIGHT
BEGIN:STANDARD
TZOFFSETFROM:-0400
TZOFFSETTO:-0500
TZNAME:EST
DTSTART:20221106T060000
END:STANDARD
BEGIN:DAYLIGHT
TZOFFSETFROM:-0500
TZOFFSETTO:-0400
TZNAME:EDT
DTSTART:20230312T070000
END:DAYLIGHT
BEGIN:STANDARD
TZOFFSETFROM:-0400
TZOFFSETTO:-0500
TZNAME:EST
DTSTART:20231105T060000
END:STANDARD
END:VTIMEZONE
BEGIN:VEVENT
DTSTART;TZID=America/New_York:20220305T110000
DTEND;TZID=America/New_York:20220305T123000
DTSTAMP:20260424T084421
CREATED:20211224T005110Z
LAST-MODIFIED:20220304T214847Z
UID:10000063-1646478000-1646483400@patronessofamerica.org
SUMMARY:First Saturday Mass - Mother of Mercy Chapel
DESCRIPTION:STREAM LIVE HERE \nThe Holy Sacrifice of the Mass will be offered on the First Saturday of March in the Mother of Mercy Chapel in reparation for offenses against the Immaculate Heart of Mary. Celebrant is Fr. Osman Ramos\, Pastor at St Gaspar Catholic Church\,  Rome City. \nThis Mass will be offered for Our Lady’s intercession for the United States of America and in thanksgiving for our many blessings.
URL:https://patronessofamerica.org/event_single/first-saturday-mass-mother-of-mercy-chapel-7/
LOCATION:Our Lady\, Patroness of America Center & Oratory of the Holy Family\, 2730 E Northport Rd\, Rome City\, IN\, 46784\, United States
ATTACH;FMTTYPE=image/webp:https://patronessofamerica.org/wp-content/uploads/2021/12/Fr-Osman-e1636389919944.webp
END:VEVENT
BEGIN:VEVENT
DTSTART;TZID=America/New_York:20220325T110000
DTEND;TZID=America/New_York:20220325T130000
DTSTAMP:20260424T084421
CREATED:20220323T134250Z
LAST-MODIFIED:20220324T183312Z
UID:10000082-1648206000-1648213200@patronessofamerica.org
SUMMARY:Joining His Holiness\, Pope Francis in Consecration of Russia\, Ukraine and All of Humanity!
DESCRIPTION:Friday March 25\, 2022\, the Feast of the Annunciation\, His Holiness\, Pope Francis in unity with all the Bishops of the world will Consecrate humanity and especially Russia and Ukraine to the Immaculate Heart of Mary. \nThe Our Lady\, Patroness of America Center will join in solidarity and prayer with this historic act. The Center will open at 10:00 AM. Eucharistic Adoration will start at 11:00 and conclude with Benediction. At noon\, Fr. Osman Ramos\, F.M. will preside as we join in the prayer of consecration with Pope Francis\, Bishop Kevin Rhoades and all the Bishops and Clergy of the world.  Please join us.
URL:https://patronessofamerica.org/event_single/joining-his-holiness-pope-francis-in-consecration-of-russia-ukraine-and-all-of-humanity/
LOCATION:Our Lady\, Patroness of America Center & Oratory of the Holy Family\, 2730 E Northport Rd\, Rome City\, IN\, 46784\, United States
END:VEVENT
END:VCALENDAR