BEGIN:VCALENDAR
VERSION:2.0
PRODID:-//Our Lady Patroness of America Center - ECPv6.15.20//NONSGML v1.0//EN
CALSCALE:GREGORIAN
METHOD:PUBLISH
X-WR-CALNAME:Our Lady Patroness of America Center
X-ORIGINAL-URL:https://patronessofamerica.org
X-WR-CALDESC:Events for Our Lady Patroness of America Center
REFRESH-INTERVAL;VALUE=DURATION:PT1H
X-Robots-Tag:noindex
X-PUBLISHED-TTL:PT1H
BEGIN:VTIMEZONE
TZID:America/New_York
BEGIN:DAYLIGHT
TZOFFSETFROM:-0500
TZOFFSETTO:-0400
TZNAME:EDT
DTSTART:20210314T070000
END:DAYLIGHT
BEGIN:STANDARD
TZOFFSETFROM:-0400
TZOFFSETTO:-0500
TZNAME:EST
DTSTART:20211107T060000
END:STANDARD
BEGIN:DAYLIGHT
TZOFFSETFROM:-0500
TZOFFSETTO:-0400
TZNAME:EDT
DTSTART:20220313T070000
END:DAYLIGHT
BEGIN:STANDARD
TZOFFSETFROM:-0400
TZOFFSETTO:-0500
TZNAME:EST
DTSTART:20221106T060000
END:STANDARD
BEGIN:DAYLIGHT
TZOFFSETFROM:-0500
TZOFFSETTO:-0400
TZNAME:EDT
DTSTART:20230312T070000
END:DAYLIGHT
BEGIN:STANDARD
TZOFFSETFROM:-0400
TZOFFSETTO:-0500
TZNAME:EST
DTSTART:20231105T060000
END:STANDARD
END:VTIMEZONE
BEGIN:VEVENT
DTSTART;TZID=America/New_York:20220702T110000
DTEND;TZID=America/New_York:20220702T123000
DTSTAMP:20260422T033113
CREATED:20211224T005525Z
LAST-MODIFIED:20220523T221629Z
UID:10000066-1656759600-1656765000@patronessofamerica.org
SUMMARY:First Saturday Mass - Fr. Kevin Haines
DESCRIPTION:STREAM LIVE HERE \nThe Holy Sacrifice of the Mass will be offered on the First Saturday of July in the Mother of Mercy Chapel in reparation for offenses against the Immaculate Heart of Mary.  Author Fr. Kevin Haines\, former Pastor and now Senior Associate Pastor at St. Maria Goretti Catholic Parish and School in Westfield\, Indiana will celebrate the Holy Mass. \nDetails on the Five First Saturday Devotion \nThis Mass will be offered for Our Lady’s intercession for the United States of America and in thanksgiving for our many blessings.
URL:https://patronessofamerica.org/event_single/first-saturday-mass-mother-of-mercy-chapel-10/
LOCATION:Our Lady\, Patroness of America Center & Oratory of the Holy Family\, 2730 E Northport Rd\, Rome City\, IN\, 46784\, United States
ATTACH;FMTTYPE=image/webp:https://patronessofamerica.org/wp-content/uploads/2021/12/Fr_Kevin_Haines.jpg
END:VEVENT
BEGIN:VEVENT
DTSTART;TZID=America/New_York:20220704T100000
DTEND;TZID=America/New_York:20220704T150000
DTSTAMP:20260422T033113
CREATED:20220524T151933Z
LAST-MODIFIED:20220524T152157Z
UID:10000084-1656928800-1656946800@patronessofamerica.org
SUMMARY:Our Lady\, Patroness of America Center Open
DESCRIPTION:The Center will be open for your visit\, Monday July 4th\,   10:00 AM – 3:00 PM.  Tours available.
URL:https://patronessofamerica.org/event_single/our-lady-patroness-of-america-center-open/
END:VEVENT
END:VCALENDAR