BEGIN:VCALENDAR
VERSION:2.0
PRODID:-//Our Lady Patroness of America Center - ECPv6.15.20//NONSGML v1.0//EN
CALSCALE:GREGORIAN
METHOD:PUBLISH
X-WR-CALNAME:Our Lady Patroness of America Center
X-ORIGINAL-URL:https://patronessofamerica.org
X-WR-CALDESC:Events for Our Lady Patroness of America Center
REFRESH-INTERVAL;VALUE=DURATION:PT1H
X-Robots-Tag:noindex
X-PUBLISHED-TTL:PT1H
BEGIN:VTIMEZONE
TZID:America/New_York
BEGIN:DAYLIGHT
TZOFFSETFROM:-0500
TZOFFSETTO:-0400
TZNAME:EDT
DTSTART:20210314T070000
END:DAYLIGHT
BEGIN:STANDARD
TZOFFSETFROM:-0400
TZOFFSETTO:-0500
TZNAME:EST
DTSTART:20211107T060000
END:STANDARD
BEGIN:DAYLIGHT
TZOFFSETFROM:-0500
TZOFFSETTO:-0400
TZNAME:EDT
DTSTART:20220313T070000
END:DAYLIGHT
BEGIN:STANDARD
TZOFFSETFROM:-0400
TZOFFSETTO:-0500
TZNAME:EST
DTSTART:20221106T060000
END:STANDARD
BEGIN:DAYLIGHT
TZOFFSETFROM:-0500
TZOFFSETTO:-0400
TZNAME:EDT
DTSTART:20230312T070000
END:DAYLIGHT
BEGIN:STANDARD
TZOFFSETFROM:-0400
TZOFFSETTO:-0500
TZNAME:EST
DTSTART:20231105T060000
END:STANDARD
END:VTIMEZONE
BEGIN:VEVENT
DTSTART;TZID=America/New_York:20220903T110000
DTEND;TZID=America/New_York:20220903T123000
DTSTAMP:20260422T005144
CREATED:20211224T010302Z
LAST-MODIFIED:20231016T145159Z
UID:10000069-1662202800-1662208200@patronessofamerica.org
SUMMARY:First Saturday Mass - Oratory of the Holy Family
DESCRIPTION:STREAM LIVE HERE \nThe Holy Sacrifice of the Mass will be offered on the First Saturday of September in the Mother of Mercy Chapel in reparation for offenses against the Immaculate Heart of Mary. \nCelebrant isFr. Louis Fowoyo\, Pastor from St. Gaspar Del Bufalo Catholic Church.   He is our Pastor here at the Oratory. \nDetails on the Five First Saturday Devotion \nThis Mass will be offered for Our Lady’s intercession for the United States of America and in thanksgiving for our many blessings.
URL:https://patronessofamerica.org/event_single/first-saturday-mass-mother-of-mercy-chapel-13/
LOCATION:Our Lady\, Patroness of America Center & Oratory of the Holy Family\, 2730 E Northport Rd\, Rome City\, IN\, 46784\, United States
ATTACH;FMTTYPE=image/webp:https://patronessofamerica.org/wp-content/uploads/2021/12/FrLouisFowoyo.jpg
END:VEVENT
BEGIN:VEVENT
DTSTART;TZID=America/New_York:20220925T120000
DTEND;TZID=America/New_York:20220925T190000
DTSTAMP:20260422T005144
CREATED:20220826T184706Z
LAST-MODIFIED:20240424T022231Z
UID:10000088-1664107200-1664132400@patronessofamerica.org
SUMMARY:Our Lady\, Patroness of America Pilgrimage Walk to Oratory of the Holy Family
DESCRIPTION:Sixty-sixth Anniversary of the Devotion to Our Lady of America\nFollowed by Benediction and Cookout!\nOn Sunday\, September 25\, 2022\, join us for the First Annual Walking Pilgrimage to the Our Lady\, Patroness of America Center in Rome City from Kendallville\, Indiana along the new Fishingline Trail. At 4:30pm the Pilgrimage will conclude with Benediction at the Oratory of the Holy Family and a Cookout on the Plaza. \nPark at Patroness of America Center at 2730 E Northport Rd\, Rome City\, Ind. There will be 4 starting points for people prepared to walk various distances. Buses will shuttle you to your starting point by the schedule below: \nPlease help us better plan – RSVP!\n\n \n\n\n  \n  \nSTARTING POINTS (Marked on the Map):\n\n\n\n7.3 mi. Starts at 1pm. Bus leaves at 12:30pm. Location: Trail behind Max Platt Ford Dealership.\n6.2 mi. Starts at 2pm. Bus leaves at 1:30pm. Location: Parking lot by trail on CR 600 E.\n3.3 mi. Starts at 3pm. Bus leaves at 2:30pm. Location: Gene Stratton Porter Parking lot.\n1.1 mi. Starts at 3:30pm. Bus leaves at 3pm. Location: Trailhead parking lot on Lions Rd.\n\n\n\nWHAT TO BRING:\n\n\n\nDaypack\nAt least 30 oz. of water per person\nSnacks\nSunscreen\nRosary and any other prayer materials.\n\n\n\nDo’s and Don’ts:\n\n\n\nBegin practicing daily walking NOW\, so you will be ready.\nStay on the trail. Just off the trail is private property.\n Only cross roads when traffic is clear. Do not let cars waive you across.\n\n\n\n  \n \nSpread the word.  Download flyer!
URL:https://patronessofamerica.org/event_single/sixty-sixth-anniversary-of-the-devotion-to-our-lady-of-america/
LOCATION:Our Lady\, Patroness of America Center & Oratory of the Holy Family\, 2730 E Northport Rd\, Rome City\, IN\, 46784\, United States
ATTACH;FMTTYPE=image/webp:https://patronessofamerica.org/wp-content/uploads/2021/11/template-3-e1661547276590.jpg
END:VEVENT
END:VCALENDAR